BEGIN:VCALENDAR
VERSION:2.0
PRODID:-//WCAC - ECPv6.15.20//NONSGML v1.0//EN
CALSCALE:GREGORIAN
METHOD:PUBLISH
X-WR-CALNAME:WCAC
X-ORIGINAL-URL:https://walworthalano.org
X-WR-CALDESC:Events for WCAC
REFRESH-INTERVAL;VALUE=DURATION:PT1H
X-Robots-Tag:noindex
X-PUBLISHED-TTL:PT1H
BEGIN:VTIMEZONE
TZID:America/Chicago
BEGIN:DAYLIGHT
TZOFFSETFROM:-0600
TZOFFSETTO:-0500
TZNAME:CDT
DTSTART:20250309T080000
END:DAYLIGHT
BEGIN:STANDARD
TZOFFSETFROM:-0500
TZOFFSETTO:-0600
TZNAME:CST
DTSTART:20251102T070000
END:STANDARD
BEGIN:DAYLIGHT
TZOFFSETFROM:-0600
TZOFFSETTO:-0500
TZNAME:CDT
DTSTART:20260308T080000
END:DAYLIGHT
BEGIN:STANDARD
TZOFFSETFROM:-0500
TZOFFSETTO:-0600
TZNAME:CST
DTSTART:20261101T070000
END:STANDARD
BEGIN:DAYLIGHT
TZOFFSETFROM:-0600
TZOFFSETTO:-0500
TZNAME:CDT
DTSTART:20270314T080000
END:DAYLIGHT
BEGIN:STANDARD
TZOFFSETFROM:-0500
TZOFFSETTO:-0600
TZNAME:CST
DTSTART:20271107T070000
END:STANDARD
END:VTIMEZONE
BEGIN:VEVENT
DTSTART;TZID=America/Chicago:20260610T170000
DTEND;TZID=America/Chicago:20260610T200000
DTSTAMP:20260424T201939
CREATED:20260424T155211Z
LAST-MODIFIED:20260424T232907Z
UID:4286-1781110800-1781121600@walworthalano.org
SUMMARY:AA Summer Picnic with AA Speaker -- Delavan WI -- June 10
DESCRIPTION:ALL ARE WELCOME! \n5PM – FELLOWSHIP \n6PM – COOKOUT \n7PM – SPEAKER \nBRATS\, HOTDOGS AND ITALIAN SUSAGES PROVIDED \nBRING A DISH TO PASS AND A CHAIR \nCONTACT: JEAN @ 262-203-2914  FOR MORE INFORMATION \nMeets at SPRINGS PARK in DELAVAN – HWY 11 to MAIN STREET SOUTH at THE END TURN RIGHT \n\n 
URL:https://walworthalano.org/event/aa-summer-picnic-with-aa-speakers-june-14/
LOCATION:Springs Park\, 328 S Terrace St\, Delavan\, WI\, 53115\, United States
CATEGORIES:Food & Fellowship,Open Event,Speaker Event
END:VEVENT
END:VCALENDAR